BEGIN:VCALENDAR
VERSION:2.0
PRODID:spatie/icalendar-generator
DESCRIPTION:Veranstaltungen von EV Walchsee
X-WR-CALDESC:Veranstaltungen von EV Walchsee
REFRESH-INTERVAL;VALUE=DURATION:PT1440M
X-PUBLISHED-TTL:PT1440M
BEGIN:VTIMEZONE
TZID:Europe/Vienna
BEGIN:DAYLIGHT
DTSTART:20220327T020000Z
TZOFFSETFROM:+0100
TZOFFSETTO:+0200
END:DAYLIGHT
BEGIN:STANDARD
DTSTART:20221030T030000Z
TZOFFSETFROM:+0200
TZOFFSETTO:+0100
END:STANDARD
BEGIN:DAYLIGHT
DTSTART:20230326T020000Z
TZOFFSETFROM:+0100
TZOFFSETTO:+0200
END:DAYLIGHT
END:VTIMEZONE
BEGIN:VTIMEZONE
TZID:UTC
BEGIN:STANDARD
DTSTART:20250725T085741Z
TZOFFSETFROM:+0000
TZOFFSETTO:+0000
END:STANDARD
END:VTIMEZONE
BEGIN:VEVENT
UID:24-14
DTSTAMP:20260421T085741Z
SUMMARY:Vereinsmeisterschaft für Damenmannschaften Asphalt
LOCATION:
ORGANIZER;CN=Marcel Ritzer:MAILTO:marcel@ritzer.tirol
DTSTART;TZID=Europe/Vienna:20221020T193000
DTEND;TZID=Europe/Vienna:20221020T220000
X-ALT-DESC;FMTTYPE=TEXT/HTML:Anmeldung bis 18:00 Uhr bei Christian Waldner 
 - +43 664 5742984 Auslosung ab 18:50 Uhr Beginn um 19:30 Uhr Nenngeld € 
 5\,- / Person Siegerehrung im Anschluss an die Veranstaltung
CATEGORIES:Stocksport Veranstaltung
URL;VALUE=URI:https://www.ev-walchsee.at/event/vereinsmeisterschaft-fuer-da
 menmannschaften-asphalt/
METHOD:PUBLISH
END:VEVENT
END:VCALENDAR